BEGIN:VCALENDAR
VERSION:2.0
PRODID:-//Paard en Miep - ECPv6.8.3//NONSGML v1.0//EN
CALSCALE:GREGORIAN
METHOD:PUBLISH
X-WR-CALNAME:Paard en Miep
X-ORIGINAL-URL:https://paardenmiep.nl
X-WR-CALDESC:Evenementen voor Paard en Miep
REFRESH-INTERVAL;VALUE=DURATION:PT1H
X-Robots-Tag:noindex
X-PUBLISHED-TTL:PT1H
BEGIN:VTIMEZONE
TZID:UTC
BEGIN:STANDARD
TZOFFSETFROM:+0000
TZOFFSETTO:+0000
TZNAME:UTC
DTSTART:20180101T000000
END:STANDARD
END:VTIMEZONE
BEGIN:VEVENT
DTSTART;TZID=UTC:20181201T080000
DTEND;TZID=UTC:20181202T170000
DTSTAMP:20260422T222612
CREATED:20180119T102736Z
LAST-MODIFIED:20180119T102736Z
UID:25660-1543651200-1543770000@paardenmiep.nl
SUMMARY:FEI Wereldbekerwedstrijd vierspannen
DESCRIPTION:
URL:https://paardenmiep.nl/event/fei-wereldbekerwedstrijd-vierspannen-5/
ATTACH;FMTTYPE=image/jpeg:https://paardenmiep.nl/wp-content/uploads/2018/01/FEI-World-Cup-Driving-logo.jpg
END:VEVENT
BEGIN:VEVENT
DTSTART;TZID=UTC:20181130T080000
DTEND;TZID=UTC:20181202T170000
DTSTAMP:20260422T222612
CREATED:20180119T102646Z
LAST-MODIFIED:20180119T102646Z
UID:25658-1543564800-1543770000@paardenmiep.nl
SUMMARY:FEI Wereldbekerwedstrijd vierspannen
DESCRIPTION:
URL:https://paardenmiep.nl/event/fei-wereldbekerwedstrijd-vierspannen-4/
ATTACH;FMTTYPE=image/jpeg:https://paardenmiep.nl/wp-content/uploads/2018/01/FEI-World-Cup-Driving-logo.jpg
END:VEVENT
BEGIN:VEVENT
DTSTART;TZID=UTC:20181129T080000
DTEND;TZID=UTC:20181202T170000
DTSTAMP:20260422T222612
CREATED:20180119T094005Z
LAST-MODIFIED:20180119T094005Z
UID:25613-1543478400-1543770000@paardenmiep.nl
SUMMARY:FEI Longines Wereldbekerwedstrijd Springen
DESCRIPTION:
URL:https://paardenmiep.nl/event/fei-longines-wereldbekerwedstrijd-springen-8/
ATTACH;FMTTYPE=image/jpeg:https://paardenmiep.nl/wp-content/uploads/2018/01/FEI_WC_Longines_Jumping_Logo_Landscape_Gradient_RGB_0.jpg
END:VEVENT
BEGIN:VEVENT
DTSTART;TZID=UTC:20181129T080000
DTEND;TZID=UTC:20181202T170000
DTSTAMP:20260422T222612
CREATED:20180118T185015Z
LAST-MODIFIED:20180118T185015Z
UID:25438-1543478400-1543770000@paardenmiep.nl
SUMMARY:CDI Roosendaal
DESCRIPTION:
URL:https://paardenmiep.nl/event/cdi-roosendaal/
END:VEVENT
BEGIN:VEVENT
DTSTART;TZID=UTC:20181123T080000
DTEND;TZID=UTC:20181125T170000
DTSTAMP:20260422T222612
CREATED:20180118T184940Z
LAST-MODIFIED:20180118T184940Z
UID:25435-1542960000-1543165200@paardenmiep.nl
SUMMARY:Jumping Indoor Maastricht
DESCRIPTION:
URL:https://paardenmiep.nl/event/jumping-indoor-maastricht/
ATTACH;FMTTYPE=image/jpeg:https://paardenmiep.nl/wp-content/uploads/2018/01/JIM-piste-520x281.jpg
END:VEVENT
BEGIN:VEVENT
DTSTART;TZID=UTC:20181122T080000
DTEND;TZID=UTC:20181202T170000
DTSTAMP:20260422T222612
CREATED:20180118T184803Z
LAST-MODIFIED:20180118T184803Z
UID:25433-1542873600-1543770000@paardenmiep.nl
SUMMARY:Jumping de Achterhoek
DESCRIPTION:
URL:https://paardenmiep.nl/event/jumping-de-achterhoek/
END:VEVENT
BEGIN:VEVENT
DTSTART;TZID=UTC:20181122T080000
DTEND;TZID=UTC:20181125T170000
DTSTAMP:20260422T222612
CREATED:20180119T111435Z
LAST-MODIFIED:20180119T111524Z
UID:25699-1542873600-1543165200@paardenmiep.nl
SUMMARY:FEI Wereldbekerwedstrijd Voltige
DESCRIPTION:
URL:https://paardenmiep.nl/event/fei-wereldbekerwedstrijd-voltige-2/
ATTACH;FMTTYPE=image/png:https://paardenmiep.nl/wp-content/uploads/2018/01/FEI_WC_Vaulting_Logo_Gradient_L_rgb.png
END:VEVENT
BEGIN:VEVENT
DTSTART;TZID=UTC:20181122T080000
DTEND;TZID=UTC:20181125T170000
DTSTAMP:20260422T222612
CREATED:20180119T095745Z
LAST-MODIFIED:20180119T095745Z
UID:25639-1542873600-1543165200@paardenmiep.nl
SUMMARY:FEI Wereldbekerwedstrijd Dressuur
DESCRIPTION:
URL:https://paardenmiep.nl/event/fei-wereldbekerwedstrijd-dressuur-8/
ATTACH;FMTTYPE=image/png:https://paardenmiep.nl/wp-content/uploads/2018/01/FEI-W-Cup-D-logo-300x189px.png
END:VEVENT
BEGIN:VEVENT
DTSTART;TZID=UTC:20181122T080000
DTEND;TZID=UTC:20181125T170000
DTSTAMP:20260422T222612
CREATED:20180119T093910Z
LAST-MODIFIED:20180119T093910Z
UID:25611-1542873600-1543165200@paardenmiep.nl
SUMMARY:FEI Longines Wereldbekerwedstrijd Springen
DESCRIPTION:
URL:https://paardenmiep.nl/event/fei-longines-wereldbekerwedstrijd-springen-7/
ATTACH;FMTTYPE=image/jpeg:https://paardenmiep.nl/wp-content/uploads/2018/01/FEI_WC_Longines_Jumping_Logo_Landscape_Gradient_RGB_0.jpg
END:VEVENT
BEGIN:VEVENT
DTSTART;TZID=UTC:20181115T080000
DTEND;TZID=UTC:20181125T170000
DTSTAMP:20260422T222612
CREATED:20180118T184710Z
LAST-MODIFIED:20180118T184710Z
UID:25431-1542268800-1543165200@paardenmiep.nl
SUMMARY:CSI De Peelbergen
DESCRIPTION:
URL:https://paardenmiep.nl/event/csi-de-peelbergen-9/
END:VEVENT
BEGIN:VEVENT
DTSTART;TZID=UTC:20181114T080000
DTEND;TZID=UTC:20181118T170000
DTSTAMP:20260422T222612
CREATED:20180119T102543Z
LAST-MODIFIED:20180119T102543Z
UID:25656-1542182400-1542560400@paardenmiep.nl
SUMMARY:FEI wereldbekerwedstrijd vierspannen
DESCRIPTION:
URL:https://paardenmiep.nl/event/fei-wereldbekerwedstrijd-vierspannen-3/
ATTACH;FMTTYPE=image/jpeg:https://paardenmiep.nl/wp-content/uploads/2018/01/FEI-World-Cup-Driving-logo.jpg
END:VEVENT
BEGIN:VEVENT
DTSTART;TZID=UTC:20181114T080000
DTEND;TZID=UTC:20181118T170000
DTSTAMP:20260422T222612
CREATED:20180119T095657Z
LAST-MODIFIED:20180119T095657Z
UID:25637-1542182400-1542560400@paardenmiep.nl
SUMMARY:FEI Wereldbekerwedstrijd Dressuur
DESCRIPTION:
URL:https://paardenmiep.nl/event/fei-wereldbekerwedstrijd-dressuur-7/
ATTACH;FMTTYPE=image/png:https://paardenmiep.nl/wp-content/uploads/2018/01/FEI-W-Cup-D-logo-300x189px.png
END:VEVENT
BEGIN:VEVENT
DTSTART;TZID=UTC:20181114T080000
DTEND;TZID=UTC:20181118T170000
DTSTAMP:20260422T222612
CREATED:20180119T093819Z
LAST-MODIFIED:20180119T093819Z
UID:25609-1542182400-1542560400@paardenmiep.nl
SUMMARY:FEI Longines Wereldbekerwedstrijd Springen
DESCRIPTION:
URL:https://paardenmiep.nl/event/fei-longines-wereldbekerwedstrijd-springen-6/
ATTACH;FMTTYPE=image/jpeg:https://paardenmiep.nl/wp-content/uploads/2018/01/FEI_WC_Longines_Jumping_Logo_Landscape_Gradient_RGB_0.jpg
END:VEVENT
BEGIN:VEVENT
DTSTART;TZID=UTC:20181108T080000
DTEND;TZID=UTC:20181111T170000
DTSTAMP:20260422T222612
CREATED:20180119T093726Z
LAST-MODIFIED:20180119T093726Z
UID:25607-1541664000-1541955600@paardenmiep.nl
SUMMARY:FEI Longines Wereldbekerwedstrijd Springen
DESCRIPTION:
URL:https://paardenmiep.nl/event/fei-longines-wereldbekerwedstrijd-springen-5/
ATTACH;FMTTYPE=image/jpeg:https://paardenmiep.nl/wp-content/uploads/2018/01/FEI_WC_Longines_Jumping_Logo_Landscape_Gradient_RGB_0.jpg
END:VEVENT
BEGIN:VEVENT
DTSTART;TZID=UTC:20181107T080000
DTEND;TZID=UTC:20181110T170000
DTSTAMP:20260422T222612
CREATED:20180118T184629Z
LAST-MODIFIED:20180118T184629Z
UID:25429-1541577600-1541869200@paardenmiep.nl
SUMMARY:Indoor Wierden
DESCRIPTION:
URL:https://paardenmiep.nl/event/indoor-wierden/
END:VEVENT
BEGIN:VEVENT
DTSTART;TZID=UTC:20181031T080000
DTEND;TZID=UTC:20181104T170000
DTSTAMP:20260422T222612
CREATED:20180119T102451Z
LAST-MODIFIED:20180119T102451Z
UID:25654-1540972800-1541350800@paardenmiep.nl
SUMMARY:FEI wereldbekerwedstrijd vierspannen
DESCRIPTION:
URL:https://paardenmiep.nl/event/fei-wereldbekerwedstrijd-vierspannen-2/
ATTACH;FMTTYPE=image/jpeg:https://paardenmiep.nl/wp-content/uploads/2018/01/FEI-World-Cup-Driving-logo.jpg
END:VEVENT
BEGIN:VEVENT
DTSTART;TZID=UTC:20181031T080000
DTEND;TZID=UTC:20181104T170000
DTSTAMP:20260422T222612
CREATED:20180119T095603Z
LAST-MODIFIED:20180119T095603Z
UID:25635-1540972800-1541350800@paardenmiep.nl
SUMMARY:FEI Wereldbekerwedstrijd Dressuur
DESCRIPTION:
URL:https://paardenmiep.nl/event/fei-wereldbekerwedstrijd-dressuur-6/
ATTACH;FMTTYPE=image/png:https://paardenmiep.nl/wp-content/uploads/2018/01/FEI-W-Cup-D-logo-300x189px.png
END:VEVENT
BEGIN:VEVENT
DTSTART;TZID=UTC:20181031T080000
DTEND;TZID=UTC:20181104T170000
DTSTAMP:20260422T222612
CREATED:20180119T093627Z
LAST-MODIFIED:20180119T093627Z
UID:25605-1540972800-1541350800@paardenmiep.nl
SUMMARY:FEI Longines Wereldbekerwedstrijd Springen
DESCRIPTION:
URL:https://paardenmiep.nl/event/fei-longines-wereldbekerwedstrijd-springen-4/
ATTACH;FMTTYPE=image/jpeg:https://paardenmiep.nl/wp-content/uploads/2018/01/FEI_WC_Longines_Jumping_Logo_Landscape_Gradient_RGB_0.jpg
END:VEVENT
BEGIN:VEVENT
DTSTART;TZID=UTC:20181026T080000
DTEND;TZID=UTC:20181028T170000
DTSTAMP:20260422T222612
CREATED:20180119T095513Z
LAST-MODIFIED:20180119T095513Z
UID:25633-1540540800-1540746000@paardenmiep.nl
SUMMARY:FEI Wereldbekerwedstrijd Dressuur
DESCRIPTION:
URL:https://paardenmiep.nl/event/fei-wereldbekerwedstrijd-dressuur-5/
ATTACH;FMTTYPE=image/png:https://paardenmiep.nl/wp-content/uploads/2018/01/FEI-W-Cup-D-logo-300x189px.png
END:VEVENT
BEGIN:VEVENT
DTSTART;TZID=UTC:20181026T080000
DTEND;TZID=UTC:20181028T170000
DTSTAMP:20260422T222612
CREATED:20180118T192736Z
LAST-MODIFIED:20180118T192736Z
UID:25505-1540540800-1540746000@paardenmiep.nl
SUMMARY:KNHS Kampioenschap paarden eventing
DESCRIPTION:
URL:https://paardenmiep.nl/event/knhs-kampioenschap-paarden-eventing/
ATTACH;FMTTYPE=image/jpeg:https://paardenmiep.nl/wp-content/uploads/2018/01/nk-eventing.jpg
END:VEVENT
BEGIN:VEVENT
DTSTART;TZID=UTC:20181025T080000
DTEND;TZID=UTC:20181028T170000
DTSTAMP:20260422T222612
CREATED:20180119T093535Z
LAST-MODIFIED:20180119T093535Z
UID:25603-1540454400-1540746000@paardenmiep.nl
SUMMARY:FEI Longines Wereldbekerwedstrijd Springen
DESCRIPTION:
URL:https://paardenmiep.nl/event/fei-longines-wereldbekerwedstrijd-springen-3/
ATTACH;FMTTYPE=image/jpeg:https://paardenmiep.nl/wp-content/uploads/2018/01/FEI_WC_Longines_Jumping_Logo_Landscape_Gradient_RGB_0.jpg
END:VEVENT
BEGIN:VEVENT
DTSTART;TZID=UTC:20181025T080000
DTEND;TZID=UTC:20181028T170000
DTSTAMP:20260422T222612
CREATED:20180118T184546Z
LAST-MODIFIED:20180118T184546Z
UID:25427-1540454400-1540746000@paardenmiep.nl
SUMMARY:CSI De Peelbergen
DESCRIPTION:
URL:https://paardenmiep.nl/event/csi-de-peelbergen-8/
END:VEVENT
BEGIN:VEVENT
DTSTART;TZID=UTC:20181025T080000
DTEND;TZID=UTC:20181028T170000
DTSTAMP:20260422T222612
CREATED:20180118T184046Z
LAST-MODIFIED:20180118T184046Z
UID:25425-1540454400-1540746000@paardenmiep.nl
SUMMARY:CDI Exloo
DESCRIPTION:
URL:https://paardenmiep.nl/event/cdi-exloo/
END:VEVENT
BEGIN:VEVENT
DTSTART;TZID=UTC:20181018T080000
DTEND;TZID=UTC:20181021T170000
DTSTAMP:20260422T222612
CREATED:20180119T093441Z
LAST-MODIFIED:20180119T093441Z
UID:25601-1539849600-1540141200@paardenmiep.nl
SUMMARY:FEI Longines Wereldbekerwedstrijd Springen
DESCRIPTION:
URL:https://paardenmiep.nl/event/fei-longines-wereldbekerwedstrijd-springen-2/
ATTACH;FMTTYPE=image/jpeg:https://paardenmiep.nl/wp-content/uploads/2018/01/FEI_WC_Longines_Jumping_Logo_Landscape_Gradient_RGB_0.jpg
END:VEVENT
BEGIN:VEVENT
DTSTART;TZID=UTC:20181018T080000
DTEND;TZID=UTC:20181021T170000
DTSTAMP:20260422T222612
CREATED:20180119T092426Z
LAST-MODIFIED:20180119T092426Z
UID:25587-1539849600-1540141200@paardenmiep.nl
SUMMARY:WK Jonge Eventingpaarden
DESCRIPTION:
URL:https://paardenmiep.nl/event/wk-jonge-eventingpaarden/
END:VEVENT
BEGIN:VEVENT
DTSTART;TZID=UTC:20181018T080000
DTEND;TZID=UTC:20181021T170000
DTSTAMP:20260422T222612
CREATED:20180118T183954Z
LAST-MODIFIED:20180118T183954Z
UID:25423-1539849600-1540141200@paardenmiep.nl
SUMMARY:CSI Exloo
DESCRIPTION:
URL:https://paardenmiep.nl/event/csi-exloo/
END:VEVENT
BEGIN:VEVENT
DTSTART;TZID=UTC:20181018T080000
DTEND;TZID=UTC:20181021T170000
DTSTAMP:20260422T222612
CREATED:20180118T183904Z
LAST-MODIFIED:20180118T183904Z
UID:25421-1539849600-1540141200@paardenmiep.nl
SUMMARY:CSI De Peelbergen
DESCRIPTION:
URL:https://paardenmiep.nl/event/csi-de-peelbergen-7/
END:VEVENT
BEGIN:VEVENT
DTSTART;TZID=UTC:20181017T080000
DTEND;TZID=UTC:20181021T170000
DTSTAMP:20260422T222612
CREATED:20180119T095416Z
LAST-MODIFIED:20180119T095416Z
UID:25631-1539763200-1540141200@paardenmiep.nl
SUMMARY:FEI Wereldbekerwedstrijd Dressuur
DESCRIPTION:
URL:https://paardenmiep.nl/event/fei-wereldbekerwedstrijd-dressuur-4/
ATTACH;FMTTYPE=image/png:https://paardenmiep.nl/wp-content/uploads/2018/01/FEI-W-Cup-D-logo-300x189px.png
END:VEVENT
BEGIN:VEVENT
DTSTART;TZID=UTC:20181014T080000
DTEND;TZID=UTC:20181014T170000
DTSTAMP:20260422T222612
CREATED:20180119T120926Z
LAST-MODIFIED:20180119T120926Z
UID:25763-1539504000-1539536400@paardenmiep.nl
SUMMARY:FEI Nations Cup Finale Eventing
DESCRIPTION:
URL:https://paardenmiep.nl/event/fei-nations-cup-finale-eventing/
ATTACH;FMTTYPE=image/jpeg:https://paardenmiep.nl/wp-content/uploads/2018/01/nk-eventing.jpg
END:VEVENT
BEGIN:VEVENT
DTSTART;TZID=UTC:20181011T080000
DTEND;TZID=UTC:20181014T170000
DTSTAMP:20260422T222612
CREATED:20180119T093346Z
LAST-MODIFIED:20180119T093346Z
UID:25599-1539244800-1539536400@paardenmiep.nl
SUMMARY:FEI Longines Wereldbekerwedstrijd Springen
DESCRIPTION:
URL:https://paardenmiep.nl/event/fei-longines-wereldbekerwedstrijd-springen/
ATTACH;FMTTYPE=image/jpeg:https://paardenmiep.nl/wp-content/uploads/2018/01/FEI_WC_Longines_Jumping_Logo_Landscape_Gradient_RGB_0.jpg
END:VEVENT
END:VCALENDAR