BEGIN:VCALENDAR
VERSION:2.0
PRODID:-//Paard en Miep - ECPv6.8.3//NONSGML v1.0//EN
CALSCALE:GREGORIAN
METHOD:PUBLISH
X-WR-CALNAME:Paard en Miep
X-ORIGINAL-URL:https://paardenmiep.nl
X-WR-CALDESC:Evenementen voor Paard en Miep
REFRESH-INTERVAL;VALUE=DURATION:PT1H
X-Robots-Tag:noindex
X-PUBLISHED-TTL:PT1H
BEGIN:VTIMEZONE
TZID:UTC
BEGIN:STANDARD
TZOFFSETFROM:+0000
TZOFFSETTO:+0000
TZNAME:UTC
DTSTART:20180101T000000
END:STANDARD
END:VTIMEZONE
BEGIN:VEVENT
DTSTART;TZID=UTC:20180712T080000
DTEND;TZID=UTC:20180715T170000
DTSTAMP:20260421T231738
CREATED:20180119T112807Z
LAST-MODIFIED:20180119T112807Z
UID:25724-1531382400-1531674000@paardenmiep.nl
SUMMARY:Longines FEI Nations springen
DESCRIPTION:
URL:https://paardenmiep.nl/event/longines-fei-nations-springen-10/
ATTACH;FMTTYPE=image/jpeg:https://paardenmiep.nl/wp-content/uploads/2018/01/prijsuitreiking-landenwedstrijd-dd-vrijdag-24-juni-2016.jpg
END:VEVENT
BEGIN:VEVENT
DTSTART;TZID=UTC:20180709T080000
DTEND;TZID=UTC:20180715T170000
DTSTAMP:20260421T231738
CREATED:20180119T063507Z
LAST-MODIFIED:20180119T063507Z
UID:25563-1531123200-1531674000@paardenmiep.nl
SUMMARY:EK Dressuur\, Springeen en Eventing
DESCRIPTION:Junioren. \nYoung Riders \nChildren
URL:https://paardenmiep.nl/event/ek-dressuur-springeen-en-eventing/
END:VEVENT
BEGIN:VEVENT
DTSTART;TZID=UTC:20180704T080000
DTEND;TZID=UTC:20180708T170000
DTSTAMP:20260421T231738
CREATED:20180119T110742Z
LAST-MODIFIED:20180119T110742Z
UID:25684-1530691200-1531069200@paardenmiep.nl
SUMMARY:FEI World Cup mennen
DESCRIPTION:
URL:https://paardenmiep.nl/event/fei-world-cup-mennen-9/
ATTACH;FMTTYPE=image/jpeg:https://paardenmiep.nl/wp-content/uploads/2018/01/IMG_6249a.jpg
END:VEVENT
BEGIN:VEVENT
DTSTART;TZID=UTC:20180630T080000
DTEND;TZID=UTC:20180630T170000
DTSTAMP:20260421T231738
CREATED:20180118T190255Z
LAST-MODIFIED:20180118T190255Z
UID:25457-1530345600-1530378000@paardenmiep.nl
SUMMARY:NK Voltige CVI Ermelo
DESCRIPTION:
URL:https://paardenmiep.nl/event/nk-voltige-cvi-ermelo/
ATTACH;FMTTYPE=image/jpeg:https://paardenmiep.nl/wp-content/uploads/2018/01/nk-voltige.jpg
END:VEVENT
BEGIN:VEVENT
DTSTART;TZID=UTC:20180630T080000
DTEND;TZID=UTC:20180630T170000
DTSTAMP:20260421T231738
CREATED:20180118T180800Z
LAST-MODIFIED:20180118T180800Z
UID:25374-1530345600-1530378000@paardenmiep.nl
SUMMARY:CVI Ermelo
DESCRIPTION:
URL:https://paardenmiep.nl/event/cvi-ermelo-2/
END:VEVENT
BEGIN:VEVENT
DTSTART;TZID=UTC:20180628T080000
DTEND;TZID=UTC:20180701T170000
DTSTAMP:20260421T231738
CREATED:20180119T120437Z
LAST-MODIFIED:20180119T120437Z
UID:25753-1530172800-1530464400@paardenmiep.nl
SUMMARY:FEI Nations Cup Eventing
DESCRIPTION:
URL:https://paardenmiep.nl/event/fei-nations-cup-eventing-3/
ATTACH;FMTTYPE=image/jpeg:https://paardenmiep.nl/wp-content/uploads/2018/01/nk-eventing.jpg
END:VEVENT
BEGIN:VEVENT
DTSTART;TZID=UTC:20180628T080000
DTEND;TZID=UTC:20180701T170000
DTSTAMP:20260421T231738
CREATED:20180119T110700Z
LAST-MODIFIED:20180119T110700Z
UID:25682-1530172800-1530464400@paardenmiep.nl
SUMMARY:FEI World Cup mennen
DESCRIPTION:
URL:https://paardenmiep.nl/event/fei-world-cup-mennen-8/
ATTACH;FMTTYPE=image/jpeg:https://paardenmiep.nl/wp-content/uploads/2018/01/vierspan-beeldmerk-lr.jpg
END:VEVENT
BEGIN:VEVENT
DTSTART;TZID=UTC:20180628T080000
DTEND;TZID=UTC:20180701T170000
DTSTAMP:20260421T231738
CREATED:20180118T181011Z
LAST-MODIFIED:20180118T181011Z
UID:25378-1530172800-1530464400@paardenmiep.nl
SUMMARY:Outdoor Gelderland
DESCRIPTION:
URL:https://paardenmiep.nl/event/outdoor-gelderland/
ATTACH;FMTTYPE=image/png:https://paardenmiep.nl/wp-content/uploads/2018/01/download.png
END:VEVENT
BEGIN:VEVENT
DTSTART;TZID=UTC:20180628T080000
DTEND;TZID=UTC:20180701T170000
DTSTAMP:20260421T231738
CREATED:20180118T180836Z
LAST-MODIFIED:20180118T180836Z
UID:25376-1530172800-1530464400@paardenmiep.nl
SUMMARY:CSI De Peelbergen
DESCRIPTION:
URL:https://paardenmiep.nl/event/csi-de-peelbergen-5/
END:VEVENT
BEGIN:VEVENT
DTSTART;TZID=UTC:20180628T080000
DTEND;TZID=UTC:20180701T170000
DTSTAMP:20260421T231738
CREATED:20180118T180605Z
LAST-MODIFIED:20180118T180605Z
UID:25369-1530172800-1530464400@paardenmiep.nl
SUMMARY:Outdoor Brabant
DESCRIPTION:
URL:https://paardenmiep.nl/event/outdoor-brabant/
ATTACH;FMTTYPE=image/jpeg:https://paardenmiep.nl/wp-content/uploads/2018/01/vierspan-beeldmerk-lr.jpg
END:VEVENT
BEGIN:VEVENT
DTSTART;TZID=UTC:20180628T080000
DTEND;TZID=UTC:20180630T170000
DTSTAMP:20260421T231738
CREATED:20180118T180657Z
LAST-MODIFIED:20180118T180657Z
UID:25372-1530172800-1530378000@paardenmiep.nl
SUMMARY:Maarsbergen Horse Trials
DESCRIPTION:
URL:https://paardenmiep.nl/event/maarsbergen-horse-trials/
END:VEVENT
BEGIN:VEVENT
DTSTART;TZID=UTC:20180621T080000
DTEND;TZID=UTC:20180624T170000
DTSTAMP:20260421T231738
CREATED:20180119T113954Z
LAST-MODIFIED:20180119T113954Z
UID:25741-1529568000-1529859600@paardenmiep.nl
SUMMARY:FEI Nations Cup Dressuur
DESCRIPTION:
URL:https://paardenmiep.nl/event/fei-nations-cup-dressuur-3/
ATTACH;FMTTYPE=image/png:https://paardenmiep.nl/wp-content/uploads/2018/01/image.png
END:VEVENT
BEGIN:VEVENT
DTSTART;TZID=UTC:20180621T080000
DTEND;TZID=UTC:20180624T170000
DTSTAMP:20260421T231738
CREATED:20180119T112713Z
LAST-MODIFIED:20180119T112713Z
UID:25722-1529568000-1529859600@paardenmiep.nl
SUMMARY:Longines FEI Nations springen
DESCRIPTION:
URL:https://paardenmiep.nl/event/longines-fei-nations-springen-9/
ATTACH;FMTTYPE=image/jpeg:https://paardenmiep.nl/wp-content/uploads/2018/01/prijsuitreiking-landenwedstrijd-dd-vrijdag-24-juni-2016.jpg
END:VEVENT
BEGIN:VEVENT
DTSTART;TZID=UTC:20180621T080000
DTEND;TZID=UTC:20180624T170000
DTSTAMP:20260421T231738
CREATED:20180119T110603Z
LAST-MODIFIED:20180119T110603Z
UID:25680-1529568000-1529859600@paardenmiep.nl
SUMMARY:FEI World Cup mennen
DESCRIPTION:
URL:https://paardenmiep.nl/event/fei-world-cup-mennen-7/
ATTACH;FMTTYPE=image/jpeg:https://paardenmiep.nl/wp-content/uploads/2018/01/nl-ponymennen.jpg
END:VEVENT
BEGIN:VEVENT
DTSTART;TZID=UTC:20180621T080000
DTEND;TZID=UTC:20180624T170000
DTSTAMP:20260421T231738
CREATED:20180118T180423Z
LAST-MODIFIED:20180118T180423Z
UID:25367-1529568000-1529859600@paardenmiep.nl
SUMMARY:CSI De Peelbergen
DESCRIPTION:
URL:https://paardenmiep.nl/event/csi-de-peelbergen-4/
END:VEVENT
BEGIN:VEVENT
DTSTART;TZID=UTC:20180621T080000
DTEND;TZID=UTC:20180624T170000
DTSTAMP:20260421T231738
CREATED:20180118T180334Z
LAST-MODIFIED:20180118T180334Z
UID:25364-1529568000-1529859600@paardenmiep.nl
SUMMARY:CHIO Rotterdam
DESCRIPTION:
URL:https://paardenmiep.nl/event/chio-rotterdam/
ATTACH;FMTTYPE=image/jpeg:https://paardenmiep.nl/wp-content/uploads/2018/01/CHIO-Rotterdam.jpg
END:VEVENT
BEGIN:VEVENT
DTSTART;TZID=UTC:20180614T080000
DTEND;TZID=UTC:20180617T170000
DTSTAMP:20260421T231738
CREATED:20180119T112618Z
LAST-MODIFIED:20180119T112618Z
UID:25720-1528963200-1529254800@paardenmiep.nl
SUMMARY:Longines FEI Nations springen
DESCRIPTION:
URL:https://paardenmiep.nl/event/longines-fei-nations-springen-8/
ATTACH;FMTTYPE=image/jpeg:https://paardenmiep.nl/wp-content/uploads/2018/01/prijsuitreiking-landenwedstrijd-dd-vrijdag-24-juni-2016.jpg
END:VEVENT
BEGIN:VEVENT
DTSTART;TZID=UTC:20180614T080000
DTEND;TZID=UTC:20180617T170000
DTSTAMP:20260421T231738
CREATED:20180118T180203Z
LAST-MODIFIED:20180118T180203Z
UID:25362-1528963200-1529254800@paardenmiep.nl
SUMMARY:CSI Twente
DESCRIPTION:
URL:https://paardenmiep.nl/event/csi-twente/
END:VEVENT
BEGIN:VEVENT
DTSTART;TZID=UTC:20180608T080000
DTEND;TZID=UTC:20180610T170000
DTSTAMP:20260421T231738
CREATED:20180119T110509Z
LAST-MODIFIED:20180119T110509Z
UID:25678-1528444800-1528650000@paardenmiep.nl
SUMMARY:FEI World Cup mennen
DESCRIPTION:
URL:https://paardenmiep.nl/event/fei-world-cup-mennen-6/
ATTACH;FMTTYPE=image/jpeg:https://paardenmiep.nl/wp-content/uploads/2018/01/nk-enkelspan.jpg
END:VEVENT
BEGIN:VEVENT
DTSTART;TZID=UTC:20180606T080000
DTEND;TZID=UTC:20180610T170000
DTSTAMP:20260421T231738
CREATED:20180119T110418Z
LAST-MODIFIED:20180119T110418Z
UID:25676-1528272000-1528650000@paardenmiep.nl
SUMMARY:FEI World Cup mennen
DESCRIPTION:
URL:https://paardenmiep.nl/event/fei-world-cup-mennen-5/
ATTACH;FMTTYPE=image/jpeg:https://paardenmiep.nl/wp-content/uploads/2018/01/IMG_6249a.jpg
END:VEVENT
BEGIN:VEVENT
DTSTART;TZID=UTC:20180606T080000
DTEND;TZID=UTC:20180609T170000
DTSTAMP:20260421T231738
CREATED:20180118T180118Z
LAST-MODIFIED:20180118T180118Z
UID:25360-1528272000-1528563600@paardenmiep.nl
SUMMARY:Outdoor Wierden
DESCRIPTION:
URL:https://paardenmiep.nl/event/outdoor-wierden/
END:VEVENT
BEGIN:VEVENT
DTSTART;TZID=UTC:20180531T080000
DTEND;TZID=UTC:20180603T170000
DTSTAMP:20260421T231738
CREATED:20180119T112531Z
LAST-MODIFIED:20180119T112531Z
UID:25718-1527753600-1528045200@paardenmiep.nl
SUMMARY:Longines FEI Nations springen
DESCRIPTION:
URL:https://paardenmiep.nl/event/longines-fei-nations-springen-7/
ATTACH;FMTTYPE=image/jpeg:https://paardenmiep.nl/wp-content/uploads/2018/01/prijsuitreiking-landenwedstrijd-dd-vrijdag-24-juni-2016.jpg
END:VEVENT
BEGIN:VEVENT
DTSTART;TZID=UTC:20180531T080000
DTEND;TZID=UTC:20180603T170000
DTSTAMP:20260421T231738
CREATED:20180119T112444Z
LAST-MODIFIED:20180119T112444Z
UID:25716-1527753600-1528045200@paardenmiep.nl
SUMMARY:Longines FEI Nations springen
DESCRIPTION:
URL:https://paardenmiep.nl/event/longines-fei-nations-springen-6/
ATTACH;FMTTYPE=image/jpeg:https://paardenmiep.nl/wp-content/uploads/2018/01/prijsuitreiking-landenwedstrijd-dd-vrijdag-24-juni-2016.jpg
END:VEVENT
BEGIN:VEVENT
DTSTART;TZID=UTC:20180531T080000
DTEND;TZID=UTC:20180603T170000
DTSTAMP:20260421T231738
CREATED:20180118T180028Z
LAST-MODIFIED:20180118T180028Z
UID:25357-1527753600-1528045200@paardenmiep.nl
SUMMARY:Jumping Schroder Tubbergen
DESCRIPTION:
URL:https://paardenmiep.nl/event/jumping-schroder-tubbergen/
ATTACH;FMTTYPE=image/jpeg:https://paardenmiep.nl/wp-content/uploads/2018/01/download.jpg
END:VEVENT
BEGIN:VEVENT
DTSTART;TZID=UTC:20180531T080000
DTEND;TZID=UTC:20180603T170000
DTSTAMP:20260421T231738
CREATED:20180118T175853Z
LAST-MODIFIED:20180118T175853Z
UID:25355-1527753600-1528045200@paardenmiep.nl
SUMMARY:CDI Den Gouberg
DESCRIPTION:
URL:https://paardenmiep.nl/event/cdi-den-gouberg/
END:VEVENT
BEGIN:VEVENT
DTSTART;TZID=UTC:20180530T080000
DTEND;TZID=UTC:20180603T170000
DTSTAMP:20260421T231738
CREATED:20180118T190155Z
LAST-MODIFIED:20180118T190155Z
UID:25454-1527667200-1528045200@paardenmiep.nl
SUMMARY:NK Eventing Junioren en Young Riders
DESCRIPTION:
URL:https://paardenmiep.nl/event/nk-eventing-junioren-en-young-riders/
ATTACH;FMTTYPE=image/jpeg:https://paardenmiep.nl/wp-content/uploads/2018/01/nk-eventing.jpg
END:VEVENT
BEGIN:VEVENT
DTSTART;TZID=UTC:20180530T080000
DTEND;TZID=UTC:20180602T170000
DTSTAMP:20260421T231738
CREATED:20180118T175754Z
LAST-MODIFIED:20180118T175754Z
UID:25353-1527667200-1527958800@paardenmiep.nl
SUMMARY:Dutch Youngster Festival
DESCRIPTION:
URL:https://paardenmiep.nl/event/dutch-youngster-festival/
END:VEVENT
BEGIN:VEVENT
DTSTART;TZID=UTC:20180530T080000
DTEND;TZID=UTC:20180602T170000
DTSTAMP:20260421T231738
CREATED:20180118T175701Z
LAST-MODIFIED:20180118T175701Z
UID:25351-1527667200-1527958800@paardenmiep.nl
SUMMARY:Renswoude Horse Trials
DESCRIPTION:
URL:https://paardenmiep.nl/event/renswoude-horse-trials/
END:VEVENT
BEGIN:VEVENT
DTSTART;TZID=UTC:20180524T080000
DTEND;TZID=UTC:20180527T170000
DTSTAMP:20260421T231738
CREATED:20180119T120351Z
LAST-MODIFIED:20180119T120351Z
UID:25751-1527148800-1527440400@paardenmiep.nl
SUMMARY:FEI Nations Cup Eventing
DESCRIPTION:
URL:https://paardenmiep.nl/event/fei-nations-cup-eventing-2/
ATTACH;FMTTYPE=image/jpeg:https://paardenmiep.nl/wp-content/uploads/2018/01/nk-eventing.jpg
END:VEVENT
BEGIN:VEVENT
DTSTART;TZID=UTC:20180523T080000
DTEND;TZID=UTC:20180527T170000
DTSTAMP:20260421T231738
CREATED:20180119T113906Z
LAST-MODIFIED:20180119T113906Z
UID:25739-1527062400-1527440400@paardenmiep.nl
SUMMARY:FEI Nations Cup Dressuur
DESCRIPTION:
URL:https://paardenmiep.nl/event/fei-nations-cup-dressuur-2/
ATTACH;FMTTYPE=image/png:https://paardenmiep.nl/wp-content/uploads/2018/01/image.png
END:VEVENT
END:VCALENDAR