BEGIN:VCALENDAR
VERSION:2.0
PRODID:-//Paard en Miep - ECPv6.8.3//NONSGML v1.0//EN
CALSCALE:GREGORIAN
METHOD:PUBLISH
X-WR-CALNAME:Paard en Miep
X-ORIGINAL-URL:https://paardenmiep.nl
X-WR-CALDESC:Evenementen voor Paard en Miep
REFRESH-INTERVAL;VALUE=DURATION:PT1H
X-Robots-Tag:noindex
X-PUBLISHED-TTL:PT1H
BEGIN:VTIMEZONE
TZID:UTC
BEGIN:STANDARD
TZOFFSETFROM:+0000
TZOFFSETTO:+0000
TZNAME:UTC
DTSTART:20180101T000000
END:STANDARD
END:VTIMEZONE
BEGIN:VEVENT
DTSTART;TZID=UTC:20180419T080000
DTEND;TZID=UTC:20180422T170000
DTSTAMP:20260422T222618
CREATED:20180119T120306Z
LAST-MODIFIED:20180119T120306Z
UID:25749-1524124800-1524416400@paardenmiep.nl
SUMMARY:FEI Nations Cup Eventing
DESCRIPTION:
URL:https://paardenmiep.nl/event/fei-nations-cup-eventing/
ATTACH;FMTTYPE=image/jpeg:https://paardenmiep.nl/wp-content/uploads/2018/01/nk-eventing.jpg
END:VEVENT
BEGIN:VEVENT
DTSTART;TZID=UTC:20180419T080000
DTEND;TZID=UTC:20180422T170000
DTSTAMP:20260422T222618
CREATED:20180118T145706Z
LAST-MODIFIED:20180118T145706Z
UID:25317-1524124800-1524416400@paardenmiep.nl
SUMMARY:Internationale Menwedstrijden Horst a/d Maas
DESCRIPTION:
URL:https://paardenmiep.nl/event/internationale-menwedstrijden-horst-a-d-maas/
END:VEVENT
BEGIN:VEVENT
DTSTART;VALUE=DATE:20180419
DTEND;VALUE=DATE:20180423
DTSTAMP:20260422T222618
CREATED:20180119T103847Z
LAST-MODIFIED:20180119T103847Z
UID:25668-1524096000-1524441599@paardenmiep.nl
SUMMARY:FEI World Cup mennen
DESCRIPTION:
URL:https://paardenmiep.nl/event/fei-world-cup-mennen/
ATTACH;FMTTYPE=image/jpeg:https://paardenmiep.nl/wp-content/uploads/2018/01/nk-enkelspan.jpg
END:VEVENT
BEGIN:VEVENT
DTSTART;TZID=UTC:20180413T080000
DTEND;TZID=UTC:20180415T170000
DTSTAMP:20260422T222618
CREATED:20180118T145610Z
LAST-MODIFIED:20180118T145610Z
UID:25315-1523606400-1523811600@paardenmiep.nl
SUMMARY:North Holland Horse Trials
DESCRIPTION:
URL:https://paardenmiep.nl/event/north-holland-horse-trials/
END:VEVENT
BEGIN:VEVENT
DTSTART;TZID=UTC:20180410T080000
DTEND;TZID=UTC:20180415T170000
DTSTAMP:20260422T222618
CREATED:20180119T095328Z
LAST-MODIFIED:20180119T095328Z
UID:25629-1523347200-1523811600@paardenmiep.nl
SUMMARY:FEI Wereldbekerfinale Dressuur
DESCRIPTION:
URL:https://paardenmiep.nl/event/fei-wereldbekerfinale-dressuur/
ATTACH;FMTTYPE=image/png:https://paardenmiep.nl/wp-content/uploads/2018/01/FEI-W-Cup-D-logo-300x189px.png
END:VEVENT
BEGIN:VEVENT
DTSTART;TZID=UTC:20180410T080000
DTEND;TZID=UTC:20180415T170000
DTSTAMP:20260422T222618
CREATED:20180119T093230Z
LAST-MODIFIED:20180119T093230Z
UID:25597-1523347200-1523811600@paardenmiep.nl
SUMMARY:FEI Wereldbekerfinale
DESCRIPTION:Springen
URL:https://paardenmiep.nl/event/fei-wereldbekerfinale/
ATTACH;FMTTYPE=image/jpeg:https://paardenmiep.nl/wp-content/uploads/2018/01/FEI_WC_Longines_Jumping_Logo_Landscape_Gradient_RGB_0.jpg
END:VEVENT
BEGIN:VEVENT
DTSTART;TZID=UTC:20180405T080000
DTEND;TZID=UTC:20180415T170000
DTSTAMP:20260422T222618
CREATED:20180118T145522Z
LAST-MODIFIED:20180118T145523Z
UID:25311-1522915200-1523811600@paardenmiep.nl
SUMMARY:CSI de Peelbergen
DESCRIPTION:
URL:https://paardenmiep.nl/event/csi-de-peelbergen-3/
END:VEVENT
BEGIN:VEVENT
DTSTART;TZID=UTC:20180404T080000
DTEND;TZID=UTC:20180408T170000
DTSTAMP:20260422T222618
CREATED:20180118T145430Z
LAST-MODIFIED:20180118T145430Z
UID:25309-1522828800-1523206800@paardenmiep.nl
SUMMARY:Zeeland Outdoor International
DESCRIPTION:
URL:https://paardenmiep.nl/event/zeeland-outdoor-international/
END:VEVENT
BEGIN:VEVENT
DTSTART;TZID=UTC:20180330T080000
DTEND;TZID=UTC:20180331T170000
DTSTAMP:20260422T222618
CREATED:20180118T191501Z
LAST-MODIFIED:20180118T191501Z
UID:25483-1522396800-1522515600@paardenmiep.nl
SUMMARY:Indoorkampioenschappen Springen paarden
DESCRIPTION:
URL:https://paardenmiep.nl/event/indoorkampioenschappen-springen-paarden/
ATTACH;FMTTYPE=image/jpeg:https://paardenmiep.nl/wp-content/uploads/2018/01/images-1.jpg
END:VEVENT
BEGIN:VEVENT
DTSTART;TZID=UTC:20180329T080000
DTEND;TZID=UTC:20180401T170000
DTSTAMP:20260422T222618
CREATED:20180118T145334Z
LAST-MODIFIED:20180118T145334Z
UID:25307-1522310400-1522602000@paardenmiep.nl
SUMMARY:CAI Exloo
DESCRIPTION:
URL:https://paardenmiep.nl/event/cai-exloo/
END:VEVENT
BEGIN:VEVENT
DTSTART;TZID=UTC:20180329T080000
DTEND;TZID=UTC:20180401T170000
DTSTAMP:20260422T222618
CREATED:20180118T145243Z
LAST-MODIFIED:20180118T145243Z
UID:25303-1522310400-1522602000@paardenmiep.nl
SUMMARY:CSI de Peelbergen
DESCRIPTION:
URL:https://paardenmiep.nl/event/csi-de-peelbergen-2/
END:VEVENT
BEGIN:VEVENT
DTSTART;TZID=UTC:20180323T080000
DTEND;TZID=UTC:20180324T170000
DTSTAMP:20260422T222618
CREATED:20180118T191417Z
LAST-MODIFIED:20180118T191417Z
UID:25480-1521792000-1521910800@paardenmiep.nl
SUMMARY:Indoorkampioenschappen Springen Pony's
DESCRIPTION:
URL:https://paardenmiep.nl/event/indoorkampioenschappen-springen-ponys/
ATTACH;FMTTYPE=image/jpeg:https://paardenmiep.nl/wp-content/uploads/2018/01/images.jpg
END:VEVENT
BEGIN:VEVENT
DTSTART;TZID=UTC:20180322T080000
DTEND;TZID=UTC:20180325T170000
DTSTAMP:20260422T222618
CREATED:20180119T111338Z
LAST-MODIFIED:20180119T111338Z
UID:25697-1521705600-1521997200@paardenmiep.nl
SUMMARY:FEI Wereldbekerfinale Voltige
DESCRIPTION:
URL:https://paardenmiep.nl/event/fei-wereldbekerfinale-voltige/
ATTACH;FMTTYPE=image/png:https://paardenmiep.nl/wp-content/uploads/2018/01/FEI_WC_Vaulting_Logo_Gradient_L_rgb.png
END:VEVENT
BEGIN:VEVENT
DTSTART;TZID=UTC:20180316T080000
DTEND;TZID=UTC:20180317T170000
DTSTAMP:20260422T222618
CREATED:20180118T191304Z
LAST-MODIFIED:20180118T191304Z
UID:25477-1521187200-1521306000@paardenmiep.nl
SUMMARY:Indoorkampioenschappen Dressuur paarden en pony's
DESCRIPTION:
URL:https://paardenmiep.nl/event/indoorkampioenschappen-dressuur-paarden-en-ponys-2/
ATTACH;FMTTYPE=image/jpeg:https://paardenmiep.nl/wp-content/uploads/2018/01/images-1.jpg
END:VEVENT
BEGIN:VEVENT
DTSTART;TZID=UTC:20180309T080000
DTEND;TZID=UTC:20180310T170000
DTSTAMP:20260422T222618
CREATED:20180118T191155Z
LAST-MODIFIED:20180118T191155Z
UID:25474-1520582400-1520701200@paardenmiep.nl
SUMMARY:Indoorkampioenschappen Dressuur paarden en pony's
DESCRIPTION:
URL:https://paardenmiep.nl/event/indoorkampioenschappen-dressuur-paarden-en-ponys/
ATTACH;FMTTYPE=image/jpeg:https://paardenmiep.nl/wp-content/uploads/2018/01/download-2.jpg
END:VEVENT
BEGIN:VEVENT
DTSTART;TZID=UTC:20180308T080000
DTEND;TZID=UTC:20180311T170000
DTSTAMP:20260422T222618
CREATED:20180119T095243Z
LAST-MODIFIED:20180119T095243Z
UID:25627-1520496000-1520787600@paardenmiep.nl
SUMMARY:FEI Wereldbekerwedstrijd Dressuur
DESCRIPTION:
URL:https://paardenmiep.nl/event/fei-wereldbekerwedstrijd-dressuur-3/
ATTACH;FMTTYPE=image/png:https://paardenmiep.nl/wp-content/uploads/2018/01/FEI-W-Cup-D-logo-300x189px.png
END:VEVENT
BEGIN:VEVENT
DTSTART;TZID=UTC:20180308T080000
DTEND;TZID=UTC:20180311T170000
DTSTAMP:20260422T222618
CREATED:20180118T145151Z
LAST-MODIFIED:20180118T145151Z
UID:25298-1520496000-1520787600@paardenmiep.nl
SUMMARY:Indoor Brabant
DESCRIPTION:
URL:https://paardenmiep.nl/event/indoor-brabant/
ATTACH;FMTTYPE=image/jpeg:https://paardenmiep.nl/wp-content/uploads/2018/01/IndoorBrabant.jpg
END:VEVENT
BEGIN:VEVENT
DTSTART;TZID=UTC:20180303T080000
DTEND;TZID=UTC:20180304T170000
DTSTAMP:20260422T222618
CREATED:20180118T191017Z
LAST-MODIFIED:20180118T191017Z
UID:25471-1520064000-1520182800@paardenmiep.nl
SUMMARY:Indoorkampioenschappen Dressuur Subtop
DESCRIPTION:
URL:https://paardenmiep.nl/event/indoorkampioenschappen-dressuur-subtop/
ATTACH;FMTTYPE=image/jpeg:https://paardenmiep.nl/wp-content/uploads/2018/01/download-1-1.jpg
END:VEVENT
BEGIN:VEVENT
DTSTART;TZID=UTC:20180222T080000
DTEND;TZID=UTC:20180225T170000
DTSTAMP:20260422T222618
CREATED:20180118T145008Z
LAST-MODIFIED:20180118T145008Z
UID:25296-1519286400-1519578000@paardenmiep.nl
SUMMARY:CSI de Peelbergen
DESCRIPTION:
URL:https://paardenmiep.nl/event/csi-de-peelbergen/
END:VEVENT
BEGIN:VEVENT
DTSTART;TZID=UTC:20180221T080000
DTEND;TZID=UTC:20180225T170000
DTSTAMP:20260422T222618
CREATED:20180119T095154Z
LAST-MODIFIED:20180119T095154Z
UID:25625-1519200000-1519578000@paardenmiep.nl
SUMMARY:FEI Wereldbekerwedstrijd Dressuur
DESCRIPTION:
URL:https://paardenmiep.nl/event/fei-wereldbekerwedstrijd-dressuur-2/
ATTACH;FMTTYPE=image/png:https://paardenmiep.nl/wp-content/uploads/2018/01/FEI-W-Cup-D-logo-300x189px.png
END:VEVENT
BEGIN:VEVENT
DTSTART;TZID=UTC:20180221T080000
DTEND;TZID=UTC:20180225T170000
DTSTAMP:20260422T222618
CREATED:20180119T092754Z
LAST-MODIFIED:20180119T092754Z
UID:25592-1519200000-1519578000@paardenmiep.nl
SUMMARY:FEI Longines Gothenburg Horse Show
DESCRIPTION:
URL:https://paardenmiep.nl/event/fei-longines-gothenburg-horse-show/
ATTACH;FMTTYPE=image/jpeg:https://paardenmiep.nl/wp-content/uploads/2018/01/FEI_WC_Longines_Jumping_Logo_Landscape_Gradient_RGB_0.jpg
END:VEVENT
BEGIN:VEVENT
DTSTART;TZID=UTC:20180215T080000
DTEND;TZID=UTC:20180218T170000
DTSTAMP:20260422T222618
CREATED:20180119T095055Z
LAST-MODIFIED:20180119T095055Z
UID:25622-1518681600-1518973200@paardenmiep.nl
SUMMARY:FEI Wereldbekerwedstrijd Dressuur
DESCRIPTION:
URL:https://paardenmiep.nl/event/fei-wereldbekerwedstrijd-dressuur/
ATTACH;FMTTYPE=image/png:https://paardenmiep.nl/wp-content/uploads/2018/01/FEI-W-Cup-D-logo-300x189px.png
END:VEVENT
BEGIN:VEVENT
DTSTART;TZID=UTC:20180208T080000
DTEND;TZID=UTC:20180211T170000
DTSTAMP:20260422T222618
CREATED:20180118T144736Z
LAST-MODIFIED:20180118T144736Z
UID:25292-1518076800-1518368400@paardenmiep.nl
SUMMARY:CSI Roosendaal
DESCRIPTION:
URL:https://paardenmiep.nl/event/csi-roosendaal/
END:VEVENT
BEGIN:VEVENT
DTSTART;TZID=UTC:20180208T080000
DTEND;TZID=UTC:20180210T170000
DTSTAMP:20260422T222618
CREATED:20180118T144911Z
LAST-MODIFIED:20180118T144911Z
UID:25294-1518076800-1518282000@paardenmiep.nl
SUMMARY:Para Equistrian Dressage Genemuiden
DESCRIPTION:
URL:https://paardenmiep.nl/event/para-equistrian-dressage-genemuiden/
END:VEVENT
BEGIN:VEVENT
DTSTART;TZID=UTC:20180201T080000
DTEND;TZID=UTC:20180204T170000
DTSTAMP:20260422T222618
CREATED:20180119T111245Z
LAST-MODIFIED:20180119T111245Z
UID:25694-1517472000-1517763600@paardenmiep.nl
SUMMARY:FEI wereldbekerwedstrijd Voltige
DESCRIPTION:
URL:https://paardenmiep.nl/event/fei-wereldbekerwedstrijd-voltige/
ATTACH;FMTTYPE=image/png:https://paardenmiep.nl/wp-content/uploads/2018/01/FEI_WC_Vaulting_Logo_Gradient_L_rgb.png
END:VEVENT
BEGIN:VEVENT
DTSTART;TZID=UTC:20180201T080000
DTEND;TZID=UTC:20180204T170000
DTSTAMP:20260422T222618
CREATED:20180119T102402Z
LAST-MODIFIED:20180119T102402Z
UID:25652-1517472000-1517763600@paardenmiep.nl
SUMMARY:FEI Wereldbekerfinale vierspannen
DESCRIPTION:
URL:https://paardenmiep.nl/event/fei-wereldbekerfinale-vierspannen/
ATTACH;FMTTYPE=image/jpeg:https://paardenmiep.nl/wp-content/uploads/2018/01/FEI-World-Cup-Driving-logo.jpg
END:VEVENT
BEGIN:VEVENT
DTSTART;TZID=UTC:20180201T080000
DTEND;TZID=UTC:20180204T170000
DTSTAMP:20260422T222618
CREATED:20180119T092642Z
LAST-MODIFIED:20180119T092642Z
UID:25589-1517472000-1517763600@paardenmiep.nl
SUMMARY:FEI Longiness Jumping Bordeaux
DESCRIPTION:
URL:https://paardenmiep.nl/event/fei-longiness-jumping-bordeaux/
ATTACH;FMTTYPE=image/jpeg:https://paardenmiep.nl/wp-content/uploads/2018/01/FEI_WC_Longines_Jumping_Logo_Landscape_Gradient_RGB_0.jpg
END:VEVENT
BEGIN:VEVENT
DTSTART;TZID=UTC:20180125T080000
DTEND;TZID=UTC:20180128T233000
DTSTAMP:20260422T222618
CREATED:20180117T204726Z
LAST-MODIFIED:20180128T013149Z
UID:25210-1516867200-1517182200@paardenmiep.nl
SUMMARY:Jumping Amsterdam
DESCRIPTION:Jumping Amsterdam\, 25 t/m 28 januari\, Amsterdam (CSI4* en CDI-W)
URL:https://paardenmiep.nl/event/jumping-amsterdam/
LOCATION:Jumpsquare\, Energiestaat 1\, Deurne\, Brabant\, Nederland
END:VEVENT
BEGIN:VEVENT
DTSTART;TZID=UTC:20180119T080000
DTEND;TZID=UTC:20180121T170000
DTSTAMP:20260422T222618
CREATED:20180119T102309Z
LAST-MODIFIED:20180119T102309Z
UID:25649-1516348800-1516554000@paardenmiep.nl
SUMMARY:FEI Wereldbekerwedstrijd Vierspannen
DESCRIPTION:
URL:https://paardenmiep.nl/event/fei-wereldbekerwedstrijd-vierspannen/
ATTACH;FMTTYPE=image/jpeg:https://paardenmiep.nl/wp-content/uploads/2018/01/FEI-World-Cup-Driving-logo.jpg
END:VEVENT
END:VCALENDAR