BEGIN:VCALENDAR
VERSION:2.0
PRODID:-//Paard en Miep - ECPv6.8.3//NONSGML v1.0//EN
CALSCALE:GREGORIAN
METHOD:PUBLISH
X-WR-CALNAME:Paard en Miep
X-ORIGINAL-URL:https://paardenmiep.nl
X-WR-CALDESC:Evenementen voor Paard en Miep
REFRESH-INTERVAL;VALUE=DURATION:PT1H
X-Robots-Tag:noindex
X-PUBLISHED-TTL:PT1H
BEGIN:VTIMEZONE
TZID:UTC
BEGIN:STANDARD
TZOFFSETFROM:+0000
TZOFFSETTO:+0000
TZNAME:UTC
DTSTART:20190101T000000
END:STANDARD
END:VTIMEZONE
BEGIN:VEVENT
DTSTART;TZID=UTC:20190529T080000
DTEND;TZID=UTC:20190601T170000
DTSTAMP:20260421T041923
CREATED:20190226T184323Z
LAST-MODIFIED:20190226T184323Z
UID:27074-1559116800-1559408400@paardenmiep.nl
SUMMARY:CSIOJ Dutch Youngster Festival
DESCRIPTION:https://www.dutchyoungsterfestival.com/ \n 
URL:https://paardenmiep.nl/event/csioj-dutch-youngster-festival/
LOCATION:Wierden
END:VEVENT
BEGIN:VEVENT
DTSTART;TZID=UTC:20190524T080000
DTEND;TZID=UTC:20190526T170000
DTSTAMP:20260421T041923
CREATED:20190226T184208Z
LAST-MODIFIED:20190226T184208Z
UID:27072-1558684800-1558890000@paardenmiep.nl
SUMMARY:NK Dressuur
DESCRIPTION:https://www.nk-dressuur.nl/programma/ \n 
URL:https://paardenmiep.nl/event/nk-dressuur/
LOCATION:Nationaal Hippisch Centrum
END:VEVENT
BEGIN:VEVENT
DTSTART;TZID=UTC:20190523T080000
DTEND;TZID=UTC:20190526T170000
DTSTAMP:20260421T041923
CREATED:20190226T184038Z
LAST-MODIFIED:20190226T184038Z
UID:27068-1558598400-1558890000@paardenmiep.nl
SUMMARY:CSI3 Jumping Schroder Tubbergen
DESCRIPTION:Home \n \n 
URL:https://paardenmiep.nl/event/csi3-jumping-schroder-tubbergen/
LOCATION:Tubbergen
END:VEVENT
BEGIN:VEVENT
DTSTART;TZID=UTC:20190522T080000
DTEND;TZID=UTC:20190526T170000
DTSTAMP:20260421T041923
CREATED:20190226T183925Z
LAST-MODIFIED:20190226T183925Z
UID:27064-1558512000-1558890000@paardenmiep.nl
SUMMARY:DRHA Reinig Challange (NK Reining)
DESCRIPTION:https://www.drha.site/ \n 
URL:https://paardenmiep.nl/event/drha-reinig-challange-nk-reining/
LOCATION:Grathem
END:VEVENT
BEGIN:VEVENT
DTSTART;TZID=UTC:20190520T080000
DTEND;TZID=UTC:20190522T170000
DTSTAMP:20260421T041923
CREATED:20190226T183731Z
LAST-MODIFIED:20190226T183731Z
UID:27062-1558339200-1558544400@paardenmiep.nl
SUMMARY:CSI2 Internationaal Concours Valkenswaard
DESCRIPTION:https://www.topsinternationalarena.com/nl/evenementen/2019/3-csi1-csi2-csiyh1/informatie/over/ \n 
URL:https://paardenmiep.nl/event/csi2-internationaal-concours-valkenswaard-3/
LOCATION:Valkenswaard
END:VEVENT
BEGIN:VEVENT
DTSTART;TZID=UTC:20190513T080000
DTEND;TZID=UTC:20190515T170000
DTSTAMP:20260421T041923
CREATED:20190226T183616Z
LAST-MODIFIED:20190226T183616Z
UID:27059-1557734400-1557939600@paardenmiep.nl
SUMMARY:CSI2 Internationaal Concours Valkenswaard
DESCRIPTION:https://www.topsinternationalarena.com/nl/evenementen/2019/2-csi1-csi2-csiyh1/informatie/over/
URL:https://paardenmiep.nl/event/csi2-internationaal-concours-valkenswaard-2/
LOCATION:Valkenswaard
END:VEVENT
BEGIN:VEVENT
DTSTART;TZID=UTC:20190509T080000
DTEND;TZID=UTC:20190511T170000
DTSTAMP:20260421T041923
CREATED:20190226T183456Z
LAST-MODIFIED:20190226T183456Z
UID:27057-1557388800-1557594000@paardenmiep.nl
SUMMARY:Dutch Endurance Festival
DESCRIPTION:https://paardenevenementen.nl/dutch-endurance-festival \n 
URL:https://paardenmiep.nl/event/dutch-endurance-festival-2/
LOCATION:Nationaal Hippisch Centrum
END:VEVENT
BEGIN:VEVENT
DTSTART;VALUE=DATE:20190509
DTEND;VALUE=DATE:20190510
DTSTAMP:20260421T041923
CREATED:20190114T184748Z
LAST-MODIFIED:20190114T184748Z
UID:26921-1557360000-1557446399@paardenmiep.nl
SUMMARY:NK Endurance
DESCRIPTION:
URL:https://paardenmiep.nl/event/nk-endurance-2/
LOCATION:Nationaal Hippisch Centrum
END:VEVENT
BEGIN:VEVENT
DTSTART;TZID=UTC:20190506T080000
DTEND;TZID=UTC:20190508T170000
DTSTAMP:20260421T041923
CREATED:20190226T183118Z
LAST-MODIFIED:20190226T183118Z
UID:27053-1557129600-1557334800@paardenmiep.nl
SUMMARY:CSI2 Internationaal concours Valkenswaard
DESCRIPTION:https://www.topsinternationalarena.com/nl/evenementen/2019/1-csi1-csi2-csiyh1/informatie/over/ \n 
URL:https://paardenmiep.nl/event/csi2-internationaal-concours-valkenswaard/
LOCATION:Valkenswaard
END:VEVENT
BEGIN:VEVENT
DTSTART;VALUE=DATE:20190503
DTEND;VALUE=DATE:20190506
DTSTAMP:20260421T041923
CREATED:20190128T191328Z
LAST-MODIFIED:20190128T191328Z
UID:27029-1556841600-1557100799@paardenmiep.nl
SUMMARY:CVI Ermelo
DESCRIPTION:http://www.cviermelo.nl/nieuws/ \n 
URL:https://paardenmiep.nl/event/cvi-ermelo-3/
LOCATION:Nationaal Hippisch Centrum
END:VEVENT
BEGIN:VEVENT
DTSTART;VALUE=DATE:20190503
DTEND;VALUE=DATE:20190506
DTSTAMP:20260421T041923
CREATED:20190128T191206Z
LAST-MODIFIED:20190128T191206Z
UID:27026-1556841600-1557100799@paardenmiep.nl
SUMMARY:Grandose Horse Trials
DESCRIPTION:https://www.grandorsehorsetrials.nl/index.php/nl/ \n 
URL:https://paardenmiep.nl/event/grandose-horse-trials/
LOCATION:Kronenberg
END:VEVENT
BEGIN:VEVENT
DTSTART;VALUE=DATE:20190501
DTEND;VALUE=DATE:20190502
DTSTAMP:20260421T041923
CREATED:20190226T184914Z
LAST-MODIFIED:20190226T184914Z
UID:27086-1556668800-1556755199@paardenmiep.nl
SUMMARY:KNHS Bixiedag
DESCRIPTION:https://www.knhs.nl/nieuws/2019/inschrijving-knhs-bixiedag-2019-opent-maandag-25-februari-om-700-uur/ \n 
URL:https://paardenmiep.nl/event/knhs-bixiedag/
LOCATION:Nationaal Hippisch Centrum
END:VEVENT
BEGIN:VEVENT
DTSTART;VALUE=DATE:20190425
DTEND;VALUE=DATE:20190429
DTSTAMP:20260421T041923
CREATED:20190128T190710Z
LAST-MODIFIED:20190128T190710Z
UID:27017-1556150400-1556495999@paardenmiep.nl
SUMMARY:Concours Hippique Mierlo
DESCRIPTION:http://chmierlo.nl/ \n 
URL:https://paardenmiep.nl/event/concours-hippique-mierlo/
LOCATION:Mierlo
END:VEVENT
BEGIN:VEVENT
DTSTART;VALUE=DATE:20190421
DTEND;VALUE=DATE:20190422
DTSTAMP:20260421T041923
CREATED:20190128T190600Z
LAST-MODIFIED:20190128T190600Z
UID:27014-1555804800-1555891199@paardenmiep.nl
SUMMARY:NK Jachtpaarden
DESCRIPTION:Home \n \n 
URL:https://paardenmiep.nl/event/nk-jachtpaarden-2/
LOCATION:Ede
END:VEVENT
BEGIN:VEVENT
DTSTART;VALUE=DATE:20190421
DTEND;VALUE=DATE:20190422
DTSTAMP:20260421T041923
CREATED:20190114T192203Z
LAST-MODIFIED:20190114T192203Z
UID:26942-1555804800-1555891199@paardenmiep.nl
SUMMARY:Enjoy the Ride in de Soesterduinen
DESCRIPTION:Meer informatie www.prinsesmaximamanege.nl \n 
URL:https://paardenmiep.nl/event/enjoy-the-ride-in-de-soesterduinen/
LOCATION:Den Dolder
END:VEVENT
BEGIN:VEVENT
DTSTART;VALUE=DATE:20190420
DTEND;VALUE=DATE:20190421
DTSTAMP:20260421T041923
CREATED:20190128T191024Z
LAST-MODIFIED:20190128T191024Z
UID:27023-1555718400-1555804799@paardenmiep.nl
SUMMARY:Masterclass Dressagepro Live
DESCRIPTION:DressagePro Masterclass 2019 \n \n 
URL:https://paardenmiep.nl/event/masterclass-dressagepro-live/
END:VEVENT
BEGIN:VEVENT
DTSTART;VALUE=DATE:20190420
DTEND;VALUE=DATE:20190421
DTSTAMP:20260421T041923
CREATED:20190128T190846Z
LAST-MODIFIED:20190128T190846Z
UID:27020-1555718400-1555804799@paardenmiep.nl
SUMMARY:Onderlinge Wedstrijd de Voornruiters
DESCRIPTION:https://www.voornruiters.nl/index.php/kalender/evenementdetail/103/-/onderlinge-wedstrijd \n 
URL:https://paardenmiep.nl/event/onderlinge-wedstrijd-de-voornruiters/
LOCATION:Utrecht
END:VEVENT
BEGIN:VEVENT
DTSTART;VALUE=DATE:20190419
DTEND;VALUE=DATE:20190420
DTSTAMP:20260421T041923
CREATED:20190128T190154Z
LAST-MODIFIED:20190128T190154Z
UID:27005-1555632000-1555718399@paardenmiep.nl
SUMMARY:Miep is jarig
DESCRIPTION:Ditmaal geen evenement\, maar de verjaardag van Miep. \nFeliciteren jullie haar? \n 
URL:https://paardenmiep.nl/event/miep-is-jarig/
LOCATION:Woerden
END:VEVENT
BEGIN:VEVENT
DTSTART;VALUE=DATE:20190418
DTEND;VALUE=DATE:20190422
DTSTAMP:20260421T041923
CREATED:20190128T190318Z
LAST-MODIFIED:20190128T190318Z
UID:27008-1555545600-1555891199@paardenmiep.nl
SUMMARY:Mennen CAI3* Kronenberg
DESCRIPTION:Home \n \n 
URL:https://paardenmiep.nl/event/mennen-cai3-kronenberg/
LOCATION:Kronenberg
END:VEVENT
BEGIN:VEVENT
DTSTART;VALUE=DATE:20190411
DTEND;VALUE=DATE:20190415
DTSTAMP:20260421T041923
CREATED:20190114T193524Z
LAST-MODIFIED:20190114T193524Z
UID:26954-1554940800-1555286399@paardenmiep.nl
SUMMARY:CSI de Peelbergen
DESCRIPTION:https://www.peelbergen.eu/event/csi-de-peelbergen-2-1-en-yh-11-04-2019/ \n 
URL:https://paardenmiep.nl/event/csi-de-peelbergen-15/
LOCATION:De Peelbergen
END:VEVENT
BEGIN:VEVENT
DTSTART;VALUE=DATE:20190410
DTEND;VALUE=DATE:20190415
DTSTAMP:20260421T041923
CREATED:20190128T190038Z
LAST-MODIFIED:20190128T190038Z
UID:27001-1554854400-1555286399@paardenmiep.nl
SUMMARY:Zeeland Outdoor Internationaal
DESCRIPTION:http://www.cdizeelandoutdoor.nl/ \n 
URL:https://paardenmiep.nl/event/zeeland-outdoor-internationaal/
LOCATION:Nieuw en St. Joosland
END:VEVENT
BEGIN:VEVENT
DTSTART;VALUE=DATE:20190404
DTEND;VALUE=DATE:20190408
DTSTAMP:20260421T041923
CREATED:20190114T193228Z
LAST-MODIFIED:20190114T193228Z
UID:26951-1554336000-1554681599@paardenmiep.nl
SUMMARY:CSI de Peelbergen
DESCRIPTION:https://www.peelbergen.eu/event/csi-de-peelbergen-2-04-04-2019/ \n 
URL:https://paardenmiep.nl/event/csi-de-peelbergen-14/
LOCATION:De Peelbergen
END:VEVENT
BEGIN:VEVENT
DTSTART;VALUE=DATE:20190331
DTEND;VALUE=DATE:20190401
DTSTAMP:20260421T041923
CREATED:20190114T192046Z
LAST-MODIFIED:20190114T192046Z
UID:26939-1553990400-1554076799@paardenmiep.nl
SUMMARY:Ride for Villa Pardoes 2019
DESCRIPTION:Meer informatie www.natuurpoortvanloon.nl
URL:https://paardenmiep.nl/event/ride-for-villa-pardoes-2019/
LOCATION:Loon op Zand
END:VEVENT
BEGIN:VEVENT
DTSTART;VALUE=DATE:20190329
DTEND;VALUE=DATE:20190331
DTSTAMP:20260421T041923
CREATED:20190114T184704Z
LAST-MODIFIED:20190114T184704Z
UID:26919-1553817600-1553990399@paardenmiep.nl
SUMMARY:KNHS Indoorkampioenschap springen paarden
DESCRIPTION:
URL:https://paardenmiep.nl/event/knhs-indoorkampioenschap-springen-paarden/
LOCATION:Nationaal Hippisch Centrum
END:VEVENT
BEGIN:VEVENT
DTSTART;VALUE=DATE:20190328
DTEND;VALUE=DATE:20190401
DTSTAMP:20260421T041923
CREATED:20190128T185836Z
LAST-MODIFIED:20190128T185836Z
UID:26998-1553731200-1554076799@paardenmiep.nl
SUMMARY:CAI Exloo
DESCRIPTION:https://www.hippischcentrumexloo.nl/evenementen/?tribe-bar-date=2019-03 \n 
URL:https://paardenmiep.nl/event/cai-exloo-2/
LOCATION:Exloo
END:VEVENT
BEGIN:VEVENT
DTSTART;VALUE=DATE:20190328
DTEND;VALUE=DATE:20190401
DTSTAMP:20260421T041923
CREATED:20190114T192857Z
LAST-MODIFIED:20190114T192857Z
UID:26949-1553731200-1554076799@paardenmiep.nl
SUMMARY:CSI de Peelbergen
DESCRIPTION:https://www.peelbergen.eu/event/csi-de-peelbergen-2/ \n 
URL:https://paardenmiep.nl/event/csi-de-peelbergen-13/
LOCATION:De Peelbergen
END:VEVENT
BEGIN:VEVENT
DTSTART;VALUE=DATE:20190322
DTEND;VALUE=DATE:20190324
DTSTAMP:20260421T041923
CREATED:20190114T184616Z
LAST-MODIFIED:20190114T184616Z
UID:26917-1553212800-1553385599@paardenmiep.nl
SUMMARY:KNHS Indoorkampioenschap springen pony's
DESCRIPTION:
URL:https://paardenmiep.nl/event/knhs-indoorkampioenschap-springen-ponys/
LOCATION:Nationaal Hippisch Centrum
END:VEVENT
BEGIN:VEVENT
DTSTART;VALUE=DATE:20190315
DTEND;VALUE=DATE:20190317
DTSTAMP:20260421T041923
CREATED:20190114T184526Z
LAST-MODIFIED:20190114T184526Z
UID:26915-1552608000-1552780799@paardenmiep.nl
SUMMARY:KNHS Indoorkampioenschap pony's en paarden
DESCRIPTION:
URL:https://paardenmiep.nl/event/knhs-indoorkampioenschap-ponys-en-paarden/
LOCATION:Nationaal Hippisch Centrum
END:VEVENT
BEGIN:VEVENT
DTSTART;VALUE=DATE:20190314
DTEND;VALUE=DATE:20190318
DTSTAMP:20260421T041923
CREATED:20190128T185550Z
LAST-MODIFIED:20190128T185550Z
UID:26996-1552521600-1552867199@paardenmiep.nl
SUMMARY:Indoor Brabant
DESCRIPTION:http://www.thedutchmasters.com/programma \n 
URL:https://paardenmiep.nl/event/indoor-brabant-2/
LOCATION:Brabanthallen Den Bosch
END:VEVENT
BEGIN:VEVENT
DTSTART;VALUE=DATE:20190308
DTEND;VALUE=DATE:20190311
DTSTAMP:20260421T041923
CREATED:20190128T185332Z
LAST-MODIFIED:20190128T185332Z
UID:26992-1552003200-1552262399@paardenmiep.nl
SUMMARY:Concours Hippique Midden Limburg
DESCRIPTION:http://www.chmiddenlimburg.nl/ \n 
URL:https://paardenmiep.nl/event/concours-hippique-midden-limburg/
LOCATION:Kronenberg
END:VEVENT
END:VCALENDAR