BEGIN:VCALENDAR
VERSION:2.0
PRODID:-//Paard en Miep - ECPv6.8.3//NONSGML v1.0//EN
CALSCALE:GREGORIAN
METHOD:PUBLISH
X-WR-CALNAME:Paard en Miep
X-ORIGINAL-URL:https://paardenmiep.nl
X-WR-CALDESC:Evenementen voor Paard en Miep
REFRESH-INTERVAL;VALUE=DURATION:PT1H
X-Robots-Tag:noindex
X-PUBLISHED-TTL:PT1H
BEGIN:VTIMEZONE
TZID:UTC
BEGIN:STANDARD
TZOFFSETFROM:+0000
TZOFFSETTO:+0000
TZNAME:UTC
DTSTART:20180101T000000
END:STANDARD
END:VTIMEZONE
BEGIN:VEVENT
DTSTART;VALUE=DATE:20190126
DTEND;VALUE=DATE:20190127
DTSTAMP:20260421T053650
CREATED:20190114T183957Z
LAST-MODIFIED:20190114T183957Z
UID:26905-1548460800-1548547199@paardenmiep.nl
SUMMARY:KNHS Indoor Eventingwedstrijd
DESCRIPTION:
URL:https://paardenmiep.nl/event/knhs-indoor-eventingwedstrijd/
LOCATION:Nationaal Hippisch Centrum
END:VEVENT
BEGIN:VEVENT
DTSTART;VALUE=DATE:20190124
DTEND;VALUE=DATE:20190128
DTSTAMP:20260421T053650
CREATED:20190114T183140Z
LAST-MODIFIED:20190114T183207Z
UID:26893-1548288000-1548633599@paardenmiep.nl
SUMMARY:Jumping Amsterdam
DESCRIPTION:https://www.jumpingamsterdam.nl/evenement/programma/ \n 
URL:https://paardenmiep.nl/event/jumping-amsterdam-2/
END:VEVENT
BEGIN:VEVENT
DTSTART;VALUE=DATE:20190124
DTEND;VALUE=DATE:20190128
DTSTAMP:20260421T053650
CREATED:20190114T182936Z
LAST-MODIFIED:20190114T182936Z
UID:26890-1548288000-1548633599@paardenmiep.nl
SUMMARY:CSI de Peelbergen
DESCRIPTION:https://www.peelbergen.eu/event/csi-de-peelbergen-2-24-01-2019/ \n 
URL:https://paardenmiep.nl/event/csi-de-peelbergen-11/
LOCATION:De Peelbergen
END:VEVENT
BEGIN:VEVENT
DTSTART;VALUE=DATE:20190118
DTEND;VALUE=DATE:20190121
DTSTAMP:20260421T053650
CREATED:20190114T183906Z
LAST-MODIFIED:20190114T183906Z
UID:26903-1547769600-1548028799@paardenmiep.nl
SUMMARY:KNHS Trainersseminar
DESCRIPTION:18-01 Springen \n19-01 Dressuur \n20-01 Eventing
URL:https://paardenmiep.nl/event/knhs-trainersseminar/
LOCATION:Nationaal Hippisch Centrum
END:VEVENT
BEGIN:VEVENT
DTSTART;TZID=UTC:20190117T080000
DTEND;TZID=UTC:20190120T170000
DTSTAMP:20260421T053650
CREATED:20190114T182820Z
LAST-MODIFIED:20190114T182820Z
UID:26887-1547712000-1548003600@paardenmiep.nl
SUMMARY:CSI de Peelbergen
DESCRIPTION:https://www.peelbergen.eu/event/csi-de-peelbergen-2-17-01-2019/ \n 
URL:https://paardenmiep.nl/event/csi-de-peelbergen-10/
LOCATION:De Peelbergen
END:VEVENT
BEGIN:VEVENT
DTSTART;VALUE=DATE:20190115
DTEND;VALUE=DATE:20190313
DTSTAMP:20260421T053650
CREATED:20190114T183753Z
LAST-MODIFIED:20190114T183753Z
UID:26900-1547510400-1552435199@paardenmiep.nl
SUMMARY:Mentale Training met Sanne Beijerman
DESCRIPTION:Ben je snel afgeleid of juist té geconcentreerd? Het je last van spanningen voor of tijdens de wedstrijd? Reageert je paard thuis heel anders dan op het wedstrijdterrein? Wil je het beste uit jezelf en uit je paard halen? Dan is mentale training wat voor jou! In januari 2019 begint weer een nieuwe cursus. Die wordt gegeven door sportpsychologe Sanne Beijerman op het KNHS-centrum in Ermelo. \nMentale training gaat over hoe je mentale vaardigheden kunt ontwikkelen en toepassen om een goede prestatie neer te zetten. Het doel van de cursus is om het spanningsniveau van jezelf en je paard te herkennen en dat te optimaliseren. Je leert om negatieve gedachten onder controle te houden\, welke ontspanningstechnieken er zijn\, hoe je realistische doelen stelt en je krijgt tips om je concentratie te bewaren. Ook de juiste voorbereiding op een wedstrijd wordt uitvoerig behandeld. \nProgramma\nDe cursus bestaat uit vijf lesavonden. De vierde avond is een praktijkavond. Gedurende de training word je begeleid met tips en adviezen door Sanne. Hierdoor wordt duidelijk aan welke onderdelen je kunt werken om tot nog betere resultaten te komen. \nDe cursus is op de volgende avonden:\n• Dinsdagavond 15 januari 2019\n• Dinsdagavond 29 januari 2019\n• Dinsdagavond 12 februari 2019\n• Dinsdagavond (praktijk) 5 maart 2019\n• Dinsdagavond 12 maart 2019 \nIedere avond begint in 19.30 uur en duurt tot ca. 22.00 uur. Deelname kost €395 per persoon\, inclusief BTW en consumpties.\nDeelnemers die minimaal 4 avonden aanwezig zijn geweest ontvangen een getuigschrift als bewijs van deelname.\nDe factuur wordt verstuurd na definitieve bevestiging van de start cursus. \nOver Sanne Beijerman\nSanne Beijerman is sportpsychologe\, KNHS coach 5 en Grand-prix dressuuramazone. Als sportpsychologe is Sanne aangesloten bij de VSPN en geaccrediteerd om sporters mentaal te begeleiden tot Olympisch niveau. Zij is als docente werkzaam bij de Vrije Universiteit van Amsterdam voor de Postdoctorale Opleiding tot Praktijk Sportpsycholoog en heeft in Nederhorst den Berg haar eigen praktijk.
URL:https://paardenmiep.nl/event/mentale-training-met-sanne-beijerman/
LOCATION:Nationaal Hippisch Centrum
END:VEVENT
BEGIN:VEVENT
DTSTART;TZID=UTC:20181226T080000
DTEND;TZID=UTC:20181230T170000
DTSTAMP:20260421T053650
CREATED:20180119T103020Z
LAST-MODIFIED:20180119T103020Z
UID:25666-1545811200-1546189200@paardenmiep.nl
SUMMARY:FEI Wereldbekerwedstrijd vierspannen
DESCRIPTION:
URL:https://paardenmiep.nl/event/fei-wereldbekerwedstrijd-vierspannen-8/
ATTACH;FMTTYPE=image/jpeg:https://paardenmiep.nl/wp-content/uploads/2018/01/FEI-World-Cup-Driving-logo.jpg
END:VEVENT
BEGIN:VEVENT
DTSTART;TZID=UTC:20181226T080000
DTEND;TZID=UTC:20181230T170000
DTSTAMP:20260421T053650
CREATED:20180119T094235Z
LAST-MODIFIED:20180119T094235Z
UID:25619-1545811200-1546189200@paardenmiep.nl
SUMMARY:FEI Longines Wereldbekerwedstrijd Springen
DESCRIPTION:
URL:https://paardenmiep.nl/event/fei-longines-wereldbekerwedstrijd-springen-10/
ATTACH;FMTTYPE=image/jpeg:https://paardenmiep.nl/wp-content/uploads/2018/01/FEI_WC_Longines_Jumping_Logo_Landscape_Gradient_RGB_0.jpg
END:VEVENT
BEGIN:VEVENT
DTSTART;TZID=UTC:20181221T080000
DTEND;TZID=UTC:20181223T170000
DTSTAMP:20260421T053650
CREATED:20180119T100107Z
LAST-MODIFIED:20180119T100107Z
UID:25647-1545379200-1545584400@paardenmiep.nl
SUMMARY:FEI Wereldbekerwedstrijd Dressuur
DESCRIPTION:
URL:https://paardenmiep.nl/event/fei-wereldbekerwedstrijd-dressuur-12/
ATTACH;FMTTYPE=image/png:https://paardenmiep.nl/wp-content/uploads/2018/01/FEI-W-Cup-D-logo-300x189px.png
END:VEVENT
BEGIN:VEVENT
DTSTART;TZID=UTC:20181220T080000
DTEND;TZID=UTC:20181223T170000
DTSTAMP:20260421T053650
CREATED:20180118T185139Z
LAST-MODIFIED:20180118T185139Z
UID:25442-1545292800-1545584400@paardenmiep.nl
SUMMARY:Christmasshow Den Goubergh
DESCRIPTION:
URL:https://paardenmiep.nl/event/christmasshow-den-goubergh/
END:VEVENT
BEGIN:VEVENT
DTSTART;TZID=UTC:20181219T080000
DTEND;TZID=UTC:20181221T170000
DTSTAMP:20260421T053650
CREATED:20180119T102921Z
LAST-MODIFIED:20180119T102921Z
UID:25664-1545206400-1545411600@paardenmiep.nl
SUMMARY:FEI Wereldbekerwedstrijd vierspannen
DESCRIPTION:
URL:https://paardenmiep.nl/event/fei-wereldbekerwedstrijd-vierspannen-7/
ATTACH;FMTTYPE=image/jpeg:https://paardenmiep.nl/wp-content/uploads/2018/01/FEI-World-Cup-Driving-logo.jpg
END:VEVENT
BEGIN:VEVENT
DTSTART;TZID=UTC:20181217T080000
DTEND;TZID=UTC:20181223T170000
DTSTAMP:20260421T053650
CREATED:20180119T094148Z
LAST-MODIFIED:20180119T094305Z
UID:25617-1545033600-1545584400@paardenmiep.nl
SUMMARY:FEI Longines Wereldbekerwedstrijd Springen
DESCRIPTION:
URL:https://paardenmiep.nl/event/fei-longines-werreldbekerwedstrijd-springen/
ATTACH;FMTTYPE=image/jpeg:https://paardenmiep.nl/wp-content/uploads/2018/01/FEI_WC_Longines_Jumping_Logo_Landscape_Gradient_RGB_0.jpg
END:VEVENT
BEGIN:VEVENT
DTSTART;TZID=UTC:20181217T080000
DTEND;TZID=UTC:20181218T170000
DTSTAMP:20260421T053650
CREATED:20180119T100026Z
LAST-MODIFIED:20180119T100026Z
UID:25645-1545033600-1545152400@paardenmiep.nl
SUMMARY:FEI Wereldbekerwedstrijd Dressuur
DESCRIPTION:
URL:https://paardenmiep.nl/event/fei-wereldbekerwedstrijd-dressuur-11/
ATTACH;FMTTYPE=image/png:https://paardenmiep.nl/wp-content/uploads/2018/01/FEI-W-Cup-D-logo-300x189px.png
END:VEVENT
BEGIN:VEVENT
DTSTART;TZID=UTC:20181214T080000
DTEND;TZID=UTC:20181215T170000
DTSTAMP:20260421T053650
CREATED:20180119T095931Z
LAST-MODIFIED:20180119T095931Z
UID:25643-1544774400-1544893200@paardenmiep.nl
SUMMARY:FEI Wereldbekerwedstrijd Dressuur
DESCRIPTION:
URL:https://paardenmiep.nl/event/fei-wereldbekerwedstrijd-dressuur-10/
ATTACH;FMTTYPE=image/png:https://paardenmiep.nl/wp-content/uploads/2018/01/FEI-W-Cup-D-logo-300x189px.png
END:VEVENT
BEGIN:VEVENT
DTSTART;TZID=UTC:20181207T080000
DTEND;TZID=UTC:20181209T170000
DTSTAMP:20260421T053650
CREATED:20180119T094101Z
LAST-MODIFIED:20180119T094101Z
UID:25615-1544169600-1544374800@paardenmiep.nl
SUMMARY:FEI Longines Wereldbekerwedstrijd Springen
DESCRIPTION:
URL:https://paardenmiep.nl/event/fei-longines-wereldbekerwedstrijd-springen-9/
ATTACH;FMTTYPE=image/jpeg:https://paardenmiep.nl/wp-content/uploads/2018/01/FEI_WC_Longines_Jumping_Logo_Landscape_Gradient_RGB_0.jpg
END:VEVENT
BEGIN:VEVENT
DTSTART;TZID=UTC:20181206T080000
DTEND;TZID=UTC:20181216T170000
DTSTAMP:20260421T053650
CREATED:20180118T185100Z
LAST-MODIFIED:20180118T185100Z
UID:25440-1544083200-1544979600@paardenmiep.nl
SUMMARY:Christmas Show Den Goubergh
DESCRIPTION:
URL:https://paardenmiep.nl/event/christmas-show-den-goubergh/
END:VEVENT
BEGIN:VEVENT
DTSTART;TZID=UTC:20181206T080000
DTEND;TZID=UTC:20181209T170000
DTSTAMP:20260421T053650
CREATED:20180119T102832Z
LAST-MODIFIED:20180119T102832Z
UID:25662-1544083200-1544374800@paardenmiep.nl
SUMMARY:FEI wereldbekerwedstrijd vierspannen
DESCRIPTION:
URL:https://paardenmiep.nl/event/fei-wereldbekerwedstrijd-vierspannen-6/
ATTACH;FMTTYPE=image/jpeg:https://paardenmiep.nl/wp-content/uploads/2018/01/FEI-World-Cup-Driving-logo.jpg
END:VEVENT
BEGIN:VEVENT
DTSTART;TZID=UTC:20181205T080000
DTEND;TZID=UTC:20181209T170000
DTSTAMP:20260421T053650
CREATED:20180119T111806Z
LAST-MODIFIED:20180119T111806Z
UID:25703-1543996800-1544374800@paardenmiep.nl
SUMMARY:FEI wereldbekerwedstrijd Voltige
DESCRIPTION:
URL:https://paardenmiep.nl/event/fei-wereldbekerwedstrijd-voltige-4/
ATTACH;FMTTYPE=image/png:https://paardenmiep.nl/wp-content/uploads/2018/01/FEI_WC_Vaulting_Logo_Gradient_L_rgb.png
END:VEVENT
BEGIN:VEVENT
DTSTART;TZID=UTC:20181205T080000
DTEND;TZID=UTC:20181209T170000
DTSTAMP:20260421T053650
CREATED:20180119T095843Z
LAST-MODIFIED:20180119T095843Z
UID:25641-1543996800-1544374800@paardenmiep.nl
SUMMARY:FEI wereldbekerwedstrijd Dressuur
DESCRIPTION:
URL:https://paardenmiep.nl/event/fei-wereldbekerwedstrijd-dressuur-9/
ATTACH;FMTTYPE=image/png:https://paardenmiep.nl/wp-content/uploads/2018/01/FEI-W-Cup-D-logo-300x189px.png
END:VEVENT
BEGIN:VEVENT
DTSTART;TZID=UTC:20181201T080000
DTEND;TZID=UTC:20181202T170000
DTSTAMP:20260421T053650
CREATED:20180119T111619Z
LAST-MODIFIED:20180119T111619Z
UID:25701-1543651200-1543770000@paardenmiep.nl
SUMMARY:FEI wereldbekerwedstrijd Voltige
DESCRIPTION:
URL:https://paardenmiep.nl/event/fei-wereldbekerwedstrijd-voltige-3/
ATTACH;FMTTYPE=image/png:https://paardenmiep.nl/wp-content/uploads/2018/01/FEI_WC_Vaulting_Logo_Gradient_L_rgb.png
END:VEVENT
BEGIN:VEVENT
DTSTART;TZID=UTC:20181201T080000
DTEND;TZID=UTC:20181202T170000
DTSTAMP:20260421T053650
CREATED:20180119T102736Z
LAST-MODIFIED:20180119T102736Z
UID:25660-1543651200-1543770000@paardenmiep.nl
SUMMARY:FEI Wereldbekerwedstrijd vierspannen
DESCRIPTION:
URL:https://paardenmiep.nl/event/fei-wereldbekerwedstrijd-vierspannen-5/
ATTACH;FMTTYPE=image/jpeg:https://paardenmiep.nl/wp-content/uploads/2018/01/FEI-World-Cup-Driving-logo.jpg
END:VEVENT
BEGIN:VEVENT
DTSTART;TZID=UTC:20181130T080000
DTEND;TZID=UTC:20181202T170000
DTSTAMP:20260421T053650
CREATED:20180119T102646Z
LAST-MODIFIED:20180119T102646Z
UID:25658-1543564800-1543770000@paardenmiep.nl
SUMMARY:FEI Wereldbekerwedstrijd vierspannen
DESCRIPTION:
URL:https://paardenmiep.nl/event/fei-wereldbekerwedstrijd-vierspannen-4/
ATTACH;FMTTYPE=image/jpeg:https://paardenmiep.nl/wp-content/uploads/2018/01/FEI-World-Cup-Driving-logo.jpg
END:VEVENT
BEGIN:VEVENT
DTSTART;TZID=UTC:20181129T080000
DTEND;TZID=UTC:20181202T170000
DTSTAMP:20260421T053650
CREATED:20180119T094005Z
LAST-MODIFIED:20180119T094005Z
UID:25613-1543478400-1543770000@paardenmiep.nl
SUMMARY:FEI Longines Wereldbekerwedstrijd Springen
DESCRIPTION:
URL:https://paardenmiep.nl/event/fei-longines-wereldbekerwedstrijd-springen-8/
ATTACH;FMTTYPE=image/jpeg:https://paardenmiep.nl/wp-content/uploads/2018/01/FEI_WC_Longines_Jumping_Logo_Landscape_Gradient_RGB_0.jpg
END:VEVENT
BEGIN:VEVENT
DTSTART;TZID=UTC:20181129T080000
DTEND;TZID=UTC:20181202T170000
DTSTAMP:20260421T053650
CREATED:20180118T185015Z
LAST-MODIFIED:20180118T185015Z
UID:25438-1543478400-1543770000@paardenmiep.nl
SUMMARY:CDI Roosendaal
DESCRIPTION:
URL:https://paardenmiep.nl/event/cdi-roosendaal/
END:VEVENT
BEGIN:VEVENT
DTSTART;TZID=UTC:20181123T080000
DTEND;TZID=UTC:20181125T170000
DTSTAMP:20260421T053650
CREATED:20180118T184940Z
LAST-MODIFIED:20180118T184940Z
UID:25435-1542960000-1543165200@paardenmiep.nl
SUMMARY:Jumping Indoor Maastricht
DESCRIPTION:
URL:https://paardenmiep.nl/event/jumping-indoor-maastricht/
ATTACH;FMTTYPE=image/jpeg:https://paardenmiep.nl/wp-content/uploads/2018/01/JIM-piste-520x281.jpg
END:VEVENT
BEGIN:VEVENT
DTSTART;TZID=UTC:20181122T080000
DTEND;TZID=UTC:20181202T170000
DTSTAMP:20260421T053650
CREATED:20180118T184803Z
LAST-MODIFIED:20180118T184803Z
UID:25433-1542873600-1543770000@paardenmiep.nl
SUMMARY:Jumping de Achterhoek
DESCRIPTION:
URL:https://paardenmiep.nl/event/jumping-de-achterhoek/
END:VEVENT
BEGIN:VEVENT
DTSTART;TZID=UTC:20181122T080000
DTEND;TZID=UTC:20181125T170000
DTSTAMP:20260421T053650
CREATED:20180119T111435Z
LAST-MODIFIED:20180119T111524Z
UID:25699-1542873600-1543165200@paardenmiep.nl
SUMMARY:FEI Wereldbekerwedstrijd Voltige
DESCRIPTION:
URL:https://paardenmiep.nl/event/fei-wereldbekerwedstrijd-voltige-2/
ATTACH;FMTTYPE=image/png:https://paardenmiep.nl/wp-content/uploads/2018/01/FEI_WC_Vaulting_Logo_Gradient_L_rgb.png
END:VEVENT
BEGIN:VEVENT
DTSTART;TZID=UTC:20181122T080000
DTEND;TZID=UTC:20181125T170000
DTSTAMP:20260421T053650
CREATED:20180119T095745Z
LAST-MODIFIED:20180119T095745Z
UID:25639-1542873600-1543165200@paardenmiep.nl
SUMMARY:FEI Wereldbekerwedstrijd Dressuur
DESCRIPTION:
URL:https://paardenmiep.nl/event/fei-wereldbekerwedstrijd-dressuur-8/
ATTACH;FMTTYPE=image/png:https://paardenmiep.nl/wp-content/uploads/2018/01/FEI-W-Cup-D-logo-300x189px.png
END:VEVENT
BEGIN:VEVENT
DTSTART;TZID=UTC:20181122T080000
DTEND;TZID=UTC:20181125T170000
DTSTAMP:20260421T053650
CREATED:20180119T093910Z
LAST-MODIFIED:20180119T093910Z
UID:25611-1542873600-1543165200@paardenmiep.nl
SUMMARY:FEI Longines Wereldbekerwedstrijd Springen
DESCRIPTION:
URL:https://paardenmiep.nl/event/fei-longines-wereldbekerwedstrijd-springen-7/
ATTACH;FMTTYPE=image/jpeg:https://paardenmiep.nl/wp-content/uploads/2018/01/FEI_WC_Longines_Jumping_Logo_Landscape_Gradient_RGB_0.jpg
END:VEVENT
BEGIN:VEVENT
DTSTART;TZID=UTC:20181115T080000
DTEND;TZID=UTC:20181125T170000
DTSTAMP:20260421T053650
CREATED:20180118T184710Z
LAST-MODIFIED:20180118T184710Z
UID:25431-1542268800-1543165200@paardenmiep.nl
SUMMARY:CSI De Peelbergen
DESCRIPTION:
URL:https://paardenmiep.nl/event/csi-de-peelbergen-9/
END:VEVENT
END:VCALENDAR